BEGIN:VCALENDAR
VERSION:2.0
PRODID:-//217.160.0.198//NONSGML kigkonsult.se iCalcreator 2.20//
CALSCALE:GREGORIAN
METHOD:PUBLISH
X-WR-TIMEZONE:Europe/Berlin
BEGIN:VEVENT
UID:event769@Stadthalle Osterode am Harz 
DTSTAMP:20260423T125115Z
CATEGORIES:Comedy/Kabarett
DESCRIPTION:Lisa Eckhart - Ich war mal wer\nKategorie: Comedy/Kabarett\nICS
 -Link: https://osterode-stadthalle.de/index.php?option=com_jem&view=event&
 id=769:lisa-eckhart-ich-war-mal-wer\n
DTSTART;TZID=Europe/Berlin:20270320T200000
DTEND;TZID=Europe/Berlin:20270320T200000
LOCATION:Ticketverkauf in der Stadthalle und im Web-Shop\,Stadthalle Ostero
 de am Harz
SUMMARY:Lisa Eckhart - Ich war mal wer
URL:https://osterode-stadthalle.de/index.php?option=com_jem&view=event&id=7
 69:lisa-eckhart-ich-war-mal-wer
END:VEVENT
END:VCALENDAR
