BEGIN:VCALENDAR
VERSION:2.0
PRODID:-//217.160.0.198//NONSGML kigkonsult.se iCalcreator 2.20//
CALSCALE:GREGORIAN
METHOD:PUBLISH
X-WR-TIMEZONE:Europe/Berlin
BEGIN:VEVENT
UID:event768@Stadthalle Osterode am Harz 
DTSTAMP:20260423T125114Z
CATEGORIES:Musik
DESCRIPTION:Schlager & Spaß mit Andy Borg\nKategorie: Musik\nICS-Link: http
 s://osterode-stadthalle.de/index.php?option=com_jem&view=event&id=768:schl
 ager-spass-mit-andy-borg\n
DTSTART;TZID=Europe/Berlin:20270128T160000
DTEND;TZID=Europe/Berlin:20270128T160000
LOCATION:Ticketverkauf in der Stadthalle und im Web-Shop\,Stadthalle Ostero
 de am Harz
SUMMARY:Schlager & Spaß mit Andy Borg
URL:https://osterode-stadthalle.de/index.php?option=com_jem&view=event&id=7
 68:schlager-spass-mit-andy-borg
END:VEVENT
END:VCALENDAR
