BEGIN:VCALENDAR
VERSION:2.0
PRODID:-//217.160.0.198//NONSGML kigkonsult.se iCalcreator 2.20//
CALSCALE:GREGORIAN
METHOD:PUBLISH
X-WR-TIMEZONE:Europe/Berlin
BEGIN:VEVENT
UID:event761@Stadthalle Osterode am Harz 
DTSTAMP:20260425T171432Z
CATEGORIES:Musik
DESCRIPTION: The AC/DC Master-Band NICK YOUNG Live\nKategorie: Musik\nICS-L
 ink: https://osterode-stadthalle.de/index.php?option=com_jem&view=event&id
 =761:the-ac-dc-master-band-nick-young-live\n
DTSTART;TZID=Europe/Berlin:20261114T200000
DTEND;TZID=Europe/Berlin:20261114T200000
LOCATION:Ticketverkauf in der Stadthalle und im Web-Shop\,Stadthalle Ostero
 de am Harz
SUMMARY: The AC/DC Master-Band NICK YOUNG Live
URL:https://osterode-stadthalle.de/index.php?option=com_jem&view=event&id=7
 61:the-ac-dc-master-band-nick-young-live
END:VEVENT
END:VCALENDAR
