BEGIN:VCALENDAR
VERSION:2.0
PRODID:-//217.160.0.198//NONSGML kigkonsult.se iCalcreator 2.20//
CALSCALE:GREGORIAN
METHOD:PUBLISH
X-WR-TIMEZONE:Europe/Berlin
BEGIN:VEVENT
UID:event745@Stadthalle Osterode am Harz 
DTSTAMP:20260421T085332Z
CATEGORIES:Sonstiges
DESCRIPTION:Seniorenweihnachtsfeier der Stadt Osterode\nKategorie: Sonstige
 s\nICS-Link: https://osterode-stadthalle.de/index.php?option=com_jem&view=
 event&id=745:seniorenweihnachtsfeier-der-stadt-osterode\n
DTSTART;TZID=Europe/Berlin:20251219T143000
DTEND;TZID=Europe/Berlin:20251219T143000
LOCATION:Eintritt frei!
SUMMARY:Seniorenweihnachtsfeier der Stadt Osterode
URL:https://osterode-stadthalle.de/index.php?option=com_jem&view=event&id=7
 45:seniorenweihnachtsfeier-der-stadt-osterode
END:VEVENT
END:VCALENDAR
