BEGIN:VCALENDAR
VERSION:2.0
PRODID:-//217.160.0.198//NONSGML kigkonsult.se iCalcreator 2.20//
CALSCALE:GREGORIAN
METHOD:PUBLISH
X-WR-TIMEZONE:Europe/Berlin
BEGIN:VEVENT
UID:event741@Stadthalle Osterode am Harz 
DTSTAMP:20260421T085332Z
CATEGORIES:Tanz-Show
DESCRIPTION: Tanzshow - 'FLOW - Tanz durch die Zeit'\nKategorie: Tanz-Show
 \nICS-Link: https://osterode-stadthalle.de/index.php?option=com_jem&view=e
 vent&id=741:tanzshow-flow-tanz-durch-die-zeit\n
DTSTART;TZID=Europe/Berlin:20260222T160000
DTEND;TZID=Europe/Berlin:20260222T160000
LOCATION:Veranstaltung ist bereits ausverkauft!
SUMMARY: Tanzshow - 'FLOW - Tanz durch die Zeit'
URL:https://osterode-stadthalle.de/index.php?option=com_jem&view=event&id=7
 41:tanzshow-flow-tanz-durch-die-zeit
END:VEVENT
END:VCALENDAR
