BEGIN:VCALENDAR
VERSION:2.0
PRODID:-//217.160.0.198//NONSGML kigkonsult.se iCalcreator 2.20//
CALSCALE:GREGORIAN
METHOD:PUBLISH
X-WR-TIMEZONE:Europe/Berlin
BEGIN:VEVENT
UID:event733@Stadthalle Osterode am Harz 
DTSTAMP:20260422T090058Z
CATEGORIES:Musik\, Kinder
DESCRIPTION:Schülerkonzert - Emil und die Detektive\nKategorie: Musik\, Kin
 der\nICS-Link: https://osterode-stadthalle.de/index.php?option=com_jem&vie
 w=event&id=733:schuelerkonzert-emil-und-die-detektive\n
DTSTART;TZID=Europe/Berlin:20251106T103000
DTEND;TZID=Europe/Berlin:20251106T103000
LOCATION:Ticketverkauf in der Stadthalle und im Web-Shop\,Stadthalle Ostero
 de am Harz
SUMMARY:Schülerkonzert - Emil und die Detektive
URL:https://osterode-stadthalle.de/index.php?option=com_jem&view=event&id=7
 33:schuelerkonzert-emil-und-die-detektive
END:VEVENT
END:VCALENDAR
