BEGIN:VCALENDAR
VERSION:2.0
PRODID:-//217.160.0.198//NONSGML kigkonsult.se iCalcreator 2.20//
CALSCALE:GREGORIAN
METHOD:PUBLISH
X-WR-TIMEZONE:Europe/Berlin
BEGIN:VEVENT
UID:event72@Stadthalle Osterode am Harz 
DTSTAMP:20260421T090713Z
CATEGORIES:Comedy/Kabarett
DESCRIPTION:Oliver Welke & Dietmar Wischmeyer - Im Herzen jung!\nKategorie:
  Comedy/Kabarett\nICS-Link: https://osterode-stadthalle.de/index.php?optio
 n=com_jem&view=event&id=72:wischmeyer\n
DTSTART;TZID=Europe/Berlin:20160107T200000
DTEND;TZID=Europe/Berlin:20160107T200000
LOCATION:Veranstaltung ist bereits ausverkauft!
SUMMARY:Oliver Welke & Dietmar Wischmeyer - Im Herzen jung!
URL:https://osterode-stadthalle.de/index.php?option=com_jem&view=event&id=7
 2:wischmeyer
END:VEVENT
END:VCALENDAR
