BEGIN:VCALENDAR
VERSION:2.0
PRODID:-//217.160.0.198//NONSGML kigkonsult.se iCalcreator 2.20//
CALSCALE:GREGORIAN
METHOD:PUBLISH
X-WR-TIMEZONE:Europe/Berlin
BEGIN:VEVENT
UID:event719@Stadthalle Osterode am Harz 
DTSTAMP:20260423T090155Z
CATEGORIES:Theater\, Theater-Abonnement
DESCRIPTION:1984 - Schauspiel nach George Orwell\nKategorie: Theater\, Thea
 ter-Abonnement\nICS-Link: https://osterode-stadthalle.de/index.php?option=
 com_jem&view=event&id=719:1984-schauspiel\n
DTSTART;TZID=Europe/Berlin:20250925T200000
DTEND;TZID=Europe/Berlin:20250925T200000
LOCATION:Ticketverkauf in der Stadthalle und im Web-Shop\,Stadthalle Ostero
 de am Harz
SUMMARY:1984 - Schauspiel nach George Orwell
URL:https://osterode-stadthalle.de/index.php?option=com_jem&view=event&id=7
 19:1984-schauspiel
END:VEVENT
END:VCALENDAR
