BEGIN:VCALENDAR
VERSION:2.0
PRODID:-//217.160.0.198//NONSGML kigkonsult.se iCalcreator 2.20//
CALSCALE:GREGORIAN
METHOD:PUBLISH
X-WR-TIMEZONE:Europe/Berlin
BEGIN:VEVENT
UID:event714@Stadthalle Osterode am Harz 
DTSTAMP:20260424T142824Z
CATEGORIES:Ausstellungen\, Messen und Märkte
DESCRIPTION:Berufsinformationsmesse: Get work!\nKategorie: Ausstellungen\, 
 Messen und Märkte\nICS-Link: https://osterode-stadthalle.de/index.php?opti
 on=com_jem&view=event&id=714:berufsinformationsmesse-get-work\n
DTSTART;TZID=Europe/Berlin:20250827T091300
DTEND;TZID=Europe/Berlin:20250827T091300
LOCATION:Eintritt frei!
SUMMARY:Berufsinformationsmesse: Get work!
URL:https://osterode-stadthalle.de/index.php?option=com_jem&view=event&id=7
 14:berufsinformationsmesse-get-work
END:VEVENT
END:VCALENDAR
