BEGIN:VCALENDAR
VERSION:2.0
PRODID:-//217.160.0.198//NONSGML kigkonsult.se iCalcreator 2.20//
CALSCALE:GREGORIAN
METHOD:PUBLISH
X-WR-TIMEZONE:Europe/Berlin
BEGIN:VEVENT
UID:event709@Stadthalle Osterode am Harz 
DTSTAMP:20260421T085332Z
CATEGORIES:Musik
DESCRIPTION: Nicole - Carpe Diem Tour 2025\nKategorie: Musik\nICS-Link: htt
 ps://osterode-stadthalle.de/index.php?option=com_jem&view=event&id=709:nic
 ole-carpe-diem-tour-2025\n
DTSTART;TZID=Europe/Berlin:20251113T200000
DTEND;TZID=Europe/Berlin:20251113T200000
LOCATION:Ticketverkauf in der Stadthalle und im Web-Shop\,Stadthalle Ostero
 de am Harz
SUMMARY: Nicole - Carpe Diem Tour 2025
URL:https://osterode-stadthalle.de/index.php?option=com_jem&view=event&id=7
 09:nicole-carpe-diem-tour-2025
END:VEVENT
END:VCALENDAR
