BEGIN:VCALENDAR
VERSION:2.0
PRODID:-//217.160.0.198//NONSGML kigkonsult.se iCalcreator 2.20//
CALSCALE:GREGORIAN
METHOD:PUBLISH
X-WR-TIMEZONE:Europe/Berlin
BEGIN:VEVENT
UID:event704@Stadthalle Osterode am Harz 
DTSTAMP:20260423T150953Z
CATEGORIES:Musik
DESCRIPTION:Göttinger Symphonieorchester - Dance!\nKategorie: Musik\nICS-Li
 nk: https://osterode-stadthalle.de/index.php?option=com_jem&view=event&id=
 704:goettinger-symphonieorchester-dance\n
DTSTART;TZID=Europe/Berlin:20251001T193000
DTEND;TZID=Europe/Berlin:20251001T193000
LOCATION:Ticketverkauf in der Stadthalle und im Web-Shop\,Stadthalle Ostero
 de am Harz
SUMMARY:Göttinger Symphonieorchester - Dance!
URL:https://osterode-stadthalle.de/index.php?option=com_jem&view=event&id=7
 04:goettinger-symphonieorchester-dance
END:VEVENT
END:VCALENDAR
