BEGIN:VCALENDAR
VERSION:2.0
PRODID:-//217.160.0.198//NONSGML kigkonsult.se iCalcreator 2.20//
CALSCALE:GREGORIAN
METHOD:PUBLISH
X-WR-TIMEZONE:Europe/Berlin
BEGIN:VEVENT
UID:event703@Stadthalle Osterode am Harz 
DTSTAMP:20260425T110615Z
CATEGORIES:Sonstiges
DESCRIPTION:Lyrischer Garten - Erleben Sie - die bunte Welt der Poesie\nKat
 egorie: Sonstiges\nICS-Link: https://osterode-stadthalle.de/index.php?opti
 on=com_jem&view=event&id=703:lyrischer-garten-erleben-sie-die-bunte-welt-d
 er-poesie\n
DTSTART;TZID=Europe/Berlin:20250817T110000
DTEND;TZID=Europe/Berlin:20250817T180000
LOCATION:Eintritt frei!
SUMMARY:Lyrischer Garten - Erleben Sie - die bunte Welt der Poesie
URL:https://osterode-stadthalle.de/index.php?option=com_jem&view=event&id=7
 03:lyrischer-garten-erleben-sie-die-bunte-welt-der-poesie
END:VEVENT
END:VCALENDAR
