BEGIN:VCALENDAR
VERSION:2.0
PRODID:-//217.160.0.198//NONSGML kigkonsult.se iCalcreator 2.20//
CALSCALE:GREGORIAN
METHOD:PUBLISH
X-WR-TIMEZONE:Europe/Berlin
BEGIN:VEVENT
UID:event690@Stadthalle Osterode am Harz 
DTSTAMP:20260422T090118Z
CATEGORIES:Musik
DESCRIPTION:Georgi Gogow´s - Der Wilde Garten - Tour 2025\nKategorie: Musik
 \nICS-Link: https://osterode-stadthalle.de/index.php?option=com_jem&view=e
 vent&id=690:georgi-gogow-s-der-wilde-garten-tour-2025\n
DTSTART;TZID=Europe/Berlin:20250502T200000
DTEND;TZID=Europe/Berlin:20250502T200000
LOCATION:Veranstaltung wurde verschoben
SUMMARY:Georgi Gogow´s - Der Wilde Garten - Tour 2025
URL:https://osterode-stadthalle.de/index.php?option=com_jem&view=event&id=6
 90:georgi-gogow-s-der-wilde-garten-tour-2025
END:VEVENT
END:VCALENDAR
