BEGIN:VCALENDAR
VERSION:2.0
PRODID:-//217.160.0.198//NONSGML kigkonsult.se iCalcreator 2.20//
CALSCALE:GREGORIAN
METHOD:PUBLISH
X-WR-TIMEZONE:Europe/Berlin
BEGIN:VEVENT
UID:event677@Stadthalle Osterode am Harz 
DTSTAMP:20260422T090322Z
CATEGORIES:Musik
DESCRIPTION:Die Musikgemeinde Osterode e.V. präsentiert:  Sinfonieorchester
  der TU Clausthal\nKategorie: Musik\nICS-Link: https://osterode-stadthalle
 .de/index.php?option=com_jem&view=event&id=677:die-musikgemeinde-osterode-
 e-v-praesentiert-sinfonieorchester-der-tu-clausthal\n
DTSTART;TZID=Europe/Berlin:20250208T170000
DTEND;TZID=Europe/Berlin:20250208T170000
LOCATION:Tickets erhältlich in der Stadthalle Osterode
SUMMARY:Die Musikgemeinde Osterode e.V. präsentiert:  Sinfonieorchester der
  TU Clausthal
URL:https://osterode-stadthalle.de/index.php?option=com_jem&view=event&id=6
 77:die-musikgemeinde-osterode-e-v-praesentiert-sinfonieorchester-der-tu-cl
 austhal
END:VEVENT
END:VCALENDAR
