BEGIN:VCALENDAR
VERSION:2.0
PRODID:-//217.160.0.198//NONSGML kigkonsult.se iCalcreator 2.20//
CALSCALE:GREGORIAN
METHOD:PUBLISH
X-WR-TIMEZONE:Europe/Berlin
BEGIN:VEVENT
UID:event675@Stadthalle Osterode am Harz 
DTSTAMP:20260421T102958Z
CATEGORIES:Comedy/Kabarett
DESCRIPTION: Festival der Travestie in Osterode - Maria Crohn & Friends 202
 5\nKategorie: Comedy/Kabarett\nICS-Link: https://osterode-stadthalle.de/in
 dex.php?option=com_jem&view=event&id=675:festival-der-travestie-in-osterod
 e-maria-crohn-friends-2025\n
DTSTART;TZID=Europe/Berlin:20251031T200000
DTEND;TZID=Europe/Berlin:20251031T200000
LOCATION:Ticketverkauf in der Stadthalle und im Web-Shop\,Stadthalle Ostero
 de am Harz
SUMMARY: Festival der Travestie in Osterode - Maria Crohn & Friends 2025
URL:https://osterode-stadthalle.de/index.php?option=com_jem&view=event&id=6
 75:festival-der-travestie-in-osterode-maria-crohn-friends-2025
END:VEVENT
END:VCALENDAR
