BEGIN:VCALENDAR
VERSION:2.0
PRODID:-//217.160.0.198//NONSGML kigkonsult.se iCalcreator 2.20//
CALSCALE:GREGORIAN
METHOD:PUBLISH
X-WR-TIMEZONE:Europe/Berlin
BEGIN:VEVENT
UID:event669@Stadthalle Osterode am Harz 
DTSTAMP:20260422T090723Z
CATEGORIES:Musik
DESCRIPTION: Irish Christmas - Woodwind & Steel - Die fröhlich\, festliche 
 Weihnachtsshow\nKategorie: Musik\nICS-Link: https://osterode-stadthalle.de
 /index.php?option=com_jem&view=event&id=669:irish-christmas-woodwind-steel
 -die-froehlich-festliche-weihnachtsshow\n
DTSTART;TZID=Europe/Berlin:20241214T200000
DTEND;TZID=Europe/Berlin:20241214T200000
LOCATION:Ticketverkauf in der Stadthalle und im Web-Shop\,Stadthalle Ostero
 de am Harz
SUMMARY: Irish Christmas - Woodwind & Steel - Die fröhlich\, festliche Weih
 nachtsshow
URL:https://osterode-stadthalle.de/index.php?option=com_jem&view=event&id=6
 69:irish-christmas-woodwind-steel-die-froehlich-festliche-weihnachtsshow
END:VEVENT
END:VCALENDAR
