BEGIN:VCALENDAR
VERSION:2.0
PRODID:-//217.160.0.198//NONSGML kigkonsult.se iCalcreator 2.20//
CALSCALE:GREGORIAN
METHOD:PUBLISH
X-WR-TIMEZONE:Europe/Berlin
BEGIN:VEVENT
UID:event666@Stadthalle Osterode am Harz 
DTSTAMP:20260421T085231Z
CATEGORIES:Comedy/Kabarett
DESCRIPTION:Frieda Braun - Sprechpause\nKategorie: Comedy/Kabarett\nICS-Lin
 k: https://osterode-stadthalle.de/index.php?option=com_jem&view=event&id=6
 66:frieda-braun-sprechpause\n
DTSTART;TZID=Europe/Berlin:20251026T180000
DTEND;TZID=Europe/Berlin:20251026T180000
LOCATION:Ticketverkauf in der Stadthalle und im Web-Shop\,Stadthalle Ostero
 de am Harz
SUMMARY:Frieda Braun - Sprechpause
URL:https://osterode-stadthalle.de/index.php?option=com_jem&view=event&id=6
 66:frieda-braun-sprechpause
END:VEVENT
END:VCALENDAR
