BEGIN:VCALENDAR
VERSION:2.0
PRODID:-//217.160.0.198//NONSGML kigkonsult.se iCalcreator 2.20//
CALSCALE:GREGORIAN
METHOD:PUBLISH
X-WR-TIMEZONE:Europe/Berlin
BEGIN:VEVENT
UID:event655@Stadthalle Osterode am Harz 
DTSTAMP:20260421T102812Z
CATEGORIES:Musik
DESCRIPTION: Kastelruther Spatzen - LIVE\nKategorie: Musik\nICS-Link: https
 ://osterode-stadthalle.de/index.php?option=com_jem&view=event&id=655:kaste
 lruther-spatzen-live\n
DTSTART;TZID=Europe/Berlin:20250918T193000
DTEND;TZID=Europe/Berlin:20250918T193000
LOCATION:Veranstaltung ist bereits ausverkauft!
SUMMARY: Kastelruther Spatzen - LIVE
URL:https://osterode-stadthalle.de/index.php?option=com_jem&view=event&id=6
 55:kastelruther-spatzen-live
END:VEVENT
END:VCALENDAR
