BEGIN:VCALENDAR
VERSION:2.0
PRODID:-//217.160.0.198//NONSGML kigkonsult.se iCalcreator 2.20//
CALSCALE:GREGORIAN
METHOD:PUBLISH
X-WR-TIMEZONE:Europe/Berlin
BEGIN:VEVENT
UID:event653@Stadthalle Osterode am Harz 
DTSTAMP:20260424T125259Z
CATEGORIES:Kinder
DESCRIPTION:Hakuna Matata - Die einzigartige Show der größten Kindermusical
 s\nKategorie: Kinder\nICS-Link: https://osterode-stadthalle.de/index.php?o
 ption=com_jem&view=event&id=653:hakuna-matata-die-einzigartige-show-der-gr
 oessten-kindermusicals\n
DTSTART;TZID=Europe/Berlin:20250425T173000
DTEND;TZID=Europe/Berlin:20250425T173000
LOCATION:Ticketverkauf in der Stadthalle und im Web-Shop\,Stadthalle Ostero
 de am Harz
SUMMARY:Hakuna Matata - Die einzigartige Show der größten Kindermusicals
URL:https://osterode-stadthalle.de/index.php?option=com_jem&view=event&id=6
 53:hakuna-matata-die-einzigartige-show-der-groessten-kindermusicals
END:VEVENT
END:VCALENDAR
