BEGIN:VCALENDAR
VERSION:2.0
PRODID:-//217.160.0.198//NONSGML kigkonsult.se iCalcreator 2.20//
CALSCALE:GREGORIAN
METHOD:PUBLISH
X-WR-TIMEZONE:Europe/Berlin
BEGIN:VEVENT
UID:event649@Stadthalle Osterode am Harz 
DTSTAMP:20260421T121309Z
CATEGORIES:Comedy/Kabarett
DESCRIPTION: Herr Schröder - Der Rest ist Hausaufgabe\nKategorie: Comedy/Ka
 barett\nICS-Link: https://osterode-stadthalle.de/index.php?option=com_jem&
 view=event&id=649:herr-schroeder-der-rest-ist-hausaufgabe-der-rest-ist-hau
 saufgabe\n
DTSTART;TZID=Europe/Berlin:20251127T200000
DTEND;TZID=Europe/Berlin:20251127T200000
LOCATION:Veranstaltung ist bereits ausverkauft!
SUMMARY: Herr Schröder - Der Rest ist Hausaufgabe
URL:https://osterode-stadthalle.de/index.php?option=com_jem&view=event&id=6
 49:herr-schroeder-der-rest-ist-hausaufgabe-der-rest-ist-hausaufgabe
END:VEVENT
END:VCALENDAR
