BEGIN:VCALENDAR
VERSION:2.0
PRODID:-//217.160.0.198//NONSGML kigkonsult.se iCalcreator 2.20//
CALSCALE:GREGORIAN
METHOD:PUBLISH
X-WR-TIMEZONE:Europe/Berlin
BEGIN:VEVENT
UID:event627@Stadthalle Osterode am Harz 
DTSTAMP:20260423T110552Z
CATEGORIES:Musik
DESCRIPTION: die feisten - Familienfest!\nKategorie: Musik\nICS-Link: https
 ://osterode-stadthalle.de/index.php?option=com_jem&view=event&id=627:die-f
 eisten-familienfest\n
DTSTART;TZID=Europe/Berlin:20250201T200000
DTEND;TZID=Europe/Berlin:20250201T200000
LOCATION:Ticketverkauf in der Stadthalle und im Web-Shop\,Stadthalle Ostero
 de am Harz
SUMMARY: die feisten - Familienfest!
URL:https://osterode-stadthalle.de/index.php?option=com_jem&view=event&id=6
 27:die-feisten-familienfest
END:VEVENT
END:VCALENDAR
