BEGIN:VCALENDAR
VERSION:2.0
PRODID:-//217.160.0.198//NONSGML kigkonsult.se iCalcreator 2.20//
CALSCALE:GREGORIAN
METHOD:PUBLISH
X-WR-TIMEZONE:Europe/Berlin
BEGIN:VEVENT
UID:event608@Stadthalle Osterode am Harz 
DTSTAMP:20260422T091939Z
CATEGORIES:Musik\, Tanz-Show
DESCRIPTION: Die große Johann Strauss Revue\nKategorie: Musik\, Tanz-Show\n
 ICS-Link: https://osterode-stadthalle.de/index.php?option=com_jem&view=eve
 nt&id=608:die-grosse-johann-strauss-revue\n
DTSTART;TZID=Europe/Berlin:20240407T153000
DTEND;TZID=Europe/Berlin:20240407T153000
LOCATION:Ticketverkauf in der Stadthalle und im Web-Shop\,Stadthalle Ostero
 de am Harz
SUMMARY: Die große Johann Strauss Revue
URL:https://osterode-stadthalle.de/index.php?option=com_jem&view=event&id=6
 08:die-grosse-johann-strauss-revue
END:VEVENT
END:VCALENDAR
