BEGIN:VCALENDAR
VERSION:2.0
PRODID:-//217.160.0.198//NONSGML kigkonsult.se iCalcreator 2.20//
CALSCALE:GREGORIAN
METHOD:PUBLISH
X-WR-TIMEZONE:Europe/Berlin
BEGIN:VEVENT
UID:event602@Stadthalle Osterode am Harz 
DTSTAMP:20260421T103200Z
CATEGORIES:Musik
DESCRIPTION:VÖLKERBALL - A TRIBUTE TO RAMMSTEIN\nKategorie: Musik\nICS-Link
 : https://osterode-stadthalle.de/index.php?option=com_jem&view=event&id=60
 2:voelkerball-a-tribute-to-rammstein\n
DTSTART;TZID=Europe/Berlin:20240607T203000
DTEND;TZID=Europe/Berlin:20240607T203000
LOCATION:Ticketverkauf in der Stadthalle und im Web-Shop\,Stadthalle Ostero
 de am Harz
SUMMARY:VÖLKERBALL - A TRIBUTE TO RAMMSTEIN
URL:https://osterode-stadthalle.de/index.php?option=com_jem&view=event&id=6
 02:voelkerball-a-tribute-to-rammstein
END:VEVENT
END:VCALENDAR
