BEGIN:VCALENDAR
VERSION:2.0
PRODID:-//217.160.0.198//NONSGML kigkonsult.se iCalcreator 2.20//
CALSCALE:GREGORIAN
METHOD:PUBLISH
X-WR-TIMEZONE:Europe/Berlin
BEGIN:VEVENT
UID:event592@Stadthalle Osterode am Harz 
DTSTAMP:20260421T085409Z
CATEGORIES:Musik
DESCRIPTION:Lady Rose & The Black Gospel Angels\nKategorie: Musik\nICS-Link
 : https://osterode-stadthalle.de/index.php?option=com_jem&view=event&id=59
 2:lady-rose-the-black-gospel-angels\n
DTSTART;TZID=Europe/Berlin:20240130T200000
DTEND;TZID=Europe/Berlin:20240130T200000
LOCATION:Ticketverkauf in der Stadthalle und im Web-Shop\,Stadthalle Ostero
 de am Harz
SUMMARY:Lady Rose & The Black Gospel Angels
URL:https://osterode-stadthalle.de/index.php?option=com_jem&view=event&id=5
 92:lady-rose-the-black-gospel-angels
END:VEVENT
END:VCALENDAR
