BEGIN:VCALENDAR
VERSION:2.0
PRODID:-//217.160.0.198//NONSGML kigkonsult.se iCalcreator 2.20//
CALSCALE:GREGORIAN
METHOD:PUBLISH
X-WR-TIMEZONE:Europe/Berlin
BEGIN:VEVENT
UID:event583@Stadthalle Osterode am Harz 
DTSTAMP:20260421T085239Z
CATEGORIES:Musik
DESCRIPTION:Cat Stevens & The Seventies\nKategorie: Musik\nICS-Link: https:
 //osterode-stadthalle.de/index.php?option=com_jem&view=event&id=583:cat-st
 evens-the-seventies\n
DTSTART;TZID=Europe/Berlin:20231118T200000
DTEND;TZID=Europe/Berlin:20231118T200000
LOCATION:Ticketverkauf in der Stadthalle und im Web-Shop\,Stadthalle Ostero
 de am Harz
SUMMARY:Cat Stevens & The Seventies
URL:https://osterode-stadthalle.de/index.php?option=com_jem&view=event&id=5
 83:cat-stevens-the-seventies
END:VEVENT
END:VCALENDAR
