BEGIN:VCALENDAR
VERSION:2.0
PRODID:-//217.160.0.198//NONSGML kigkonsult.se iCalcreator 2.20//
CALSCALE:GREGORIAN
METHOD:PUBLISH
X-WR-TIMEZONE:Europe/Berlin
BEGIN:VEVENT
UID:event571@Stadthalle Osterode am Harz 
DTSTAMP:20260421T090713Z
CATEGORIES:Musik
DESCRIPTION:Sternstunde\nKategorie: Musik\nICS-Link: https://osterode-stadt
 halle.de/index.php?option=com_jem&view=event&id=571:sternstunde\n
DTSTART;TZID=Europe/Berlin:20240404T193000
DTEND;TZID=Europe/Berlin:20240404T193000
LOCATION:Ticketverkauf in der Stadthalle und im Web-Shop\,Stadthalle Ostero
 de am Harz
SUMMARY:Sternstunde
URL:https://osterode-stadthalle.de/index.php?option=com_jem&view=event&id=5
 71:sternstunde
END:VEVENT
END:VCALENDAR
