BEGIN:VCALENDAR
VERSION:2.0
PRODID:-//217.160.0.198//NONSGML kigkonsult.se iCalcreator 2.20//
CALSCALE:GREGORIAN
METHOD:PUBLISH
X-WR-TIMEZONE:Europe/Berlin
BEGIN:VEVENT
UID:event561@Stadthalle Osterode am Harz 
DTSTAMP:20260421T085731Z
CATEGORIES:Musik
DESCRIPTION:Original Egerland Musikanten - mit den schönsten Melodien von E
 rnst Mosch\nKategorie: Musik\nICS-Link: https://osterode-stadthalle.de/ind
 ex.php?option=com_jem&view=event&id=561:original-egerland-musikanten-mit-d
 en-schoensten-melodien-von-ernst-mosch\n
DTSTART;TZID=Europe/Berlin:20240127T160000
DTEND;TZID=Europe/Berlin:20240127T160000
LOCATION:Ticketverkauf in der Stadthalle und im Web-Shop\,Stadthalle Ostero
 de am Harz
SUMMARY:Original Egerland Musikanten - mit den schönsten Melodien von Ernst
  Mosch
URL:https://osterode-stadthalle.de/index.php?option=com_jem&view=event&id=5
 61:original-egerland-musikanten-mit-den-schoensten-melodien-von-ernst-mosc
 h
END:VEVENT
END:VCALENDAR
