BEGIN:VCALENDAR
VERSION:2.0
PRODID:-//217.160.0.198//NONSGML kigkonsult.se iCalcreator 2.20//
CALSCALE:GREGORIAN
METHOD:PUBLISH
X-WR-TIMEZONE:Europe/Berlin
BEGIN:VEVENT
UID:event557@Stadthalle Osterode am Harz 
DTSTAMP:20260425T110343Z
CATEGORIES:Ausstellungen\, Messen und Märkte
DESCRIPTION:Regionale Integrationsmesse\nKategorie: Ausstellungen\, Messen 
 und Märkte\nICS-Link: https://osterode-stadthalle.de/index.php?option=com_
 jem&view=event&id=557:regionale-integrationsmesse\n
DTSTART;TZID=Europe/Berlin:20230418T101300
DTEND;TZID=Europe/Berlin:20230418T101300
LOCATION:Eintritt frei!
SUMMARY:Regionale Integrationsmesse
URL:https://osterode-stadthalle.de/index.php?option=com_jem&view=event&id=5
 57:regionale-integrationsmesse
END:VEVENT
END:VCALENDAR
