BEGIN:VCALENDAR
VERSION:2.0
PRODID:-//217.160.0.198//NONSGML kigkonsult.se iCalcreator 2.20//
CALSCALE:GREGORIAN
METHOD:PUBLISH
X-WR-TIMEZONE:Europe/Berlin
BEGIN:VEVENT
UID:event556@Stadthalle Osterode am Harz 
DTSTAMP:20260424T161806Z
CATEGORIES:Sonstiges
DESCRIPTION:Osteroder Frühjahrsputz\nKategorie: Sonstiges\nICS-Link: https:
 //osterode-stadthalle.de/index.php?option=com_jem&view=event&id=556:ostero
 der-fruehjahrsputz\n
DTSTART;TZID=Europe/Berlin:20230325T090000
DTEND;TZID=Europe/Berlin:20230325T090000
LOCATION:Eintritt frei!
SUMMARY:Osteroder Frühjahrsputz
URL:https://osterode-stadthalle.de/index.php?option=com_jem&view=event&id=5
 56:osteroder-fruehjahrsputz
END:VEVENT
END:VCALENDAR
