BEGIN:VCALENDAR
VERSION:2.0
PRODID:-//217.160.0.198//NONSGML kigkonsult.se iCalcreator 2.20//
CALSCALE:GREGORIAN
METHOD:PUBLISH
X-WR-TIMEZONE:Europe/Berlin
BEGIN:VEVENT
UID:event55@Stadthalle Osterode am Harz 
DTSTAMP:20260425T110240Z
CATEGORIES:Sonstiges
DESCRIPTION:Greenpeace Multivisionsshow\nKategorie: Sonstiges\nICS-Link: ht
 tps://osterode-stadthalle.de/index.php?option=com_jem&view=event&id=55:Gre
 enpeace\n
DTSTART;TZID=Europe/Berlin:20150207T193000
DTEND;TZID=Europe/Berlin:20150207T193000
LOCATION:Eintritt frei!
SUMMARY:Greenpeace Multivisionsshow
URL:https://osterode-stadthalle.de/index.php?option=com_jem&view=event&id=5
 5:Greenpeace
END:VEVENT
END:VCALENDAR
