BEGIN:VCALENDAR
VERSION:2.0
PRODID:-//217.160.0.198//NONSGML kigkonsult.se iCalcreator 2.20//
CALSCALE:GREGORIAN
METHOD:PUBLISH
X-WR-TIMEZONE:Europe/Berlin
BEGIN:VEVENT
UID:event547@Stadthalle Osterode am Harz 
DTSTAMP:20260425T110343Z
CATEGORIES:Ausstellungen\, Messen und Märkte
DESCRIPTION:Hallentrödel\nKategorie: Ausstellungen\, Messen und Märkte\nICS
 -Link: https://osterode-stadthalle.de/index.php?option=com_jem&view=event&
 id=547:hallentroedel\n
DTSTART;TZID=Europe/Berlin:20230325T100000
DTEND;TZID=Europe/Berlin:20230325T150000
LOCATION:Eintritt frei!
SUMMARY:Hallentrödel
URL:https://osterode-stadthalle.de/index.php?option=com_jem&view=event&id=5
 47:hallentroedel
END:VEVENT
END:VCALENDAR
