BEGIN:VCALENDAR
VERSION:2.0
PRODID:-//217.160.0.198//NONSGML kigkonsult.se iCalcreator 2.20//
CALSCALE:GREGORIAN
METHOD:PUBLISH
X-WR-TIMEZONE:Europe/Berlin
BEGIN:VEVENT
UID:event546@Stadthalle Osterode am Harz 
DTSTAMP:20260422T091828Z
CATEGORIES:Musik
DESCRIPTION:Open Air 2023 - Schlagerparty\nKategorie: Musik\nICS-Link: http
 s://osterode-stadthalle.de/index.php?option=com_jem&view=event&id=546:open
 -air-2023-schlagerparty\n
DTSTART;TZID=Europe/Berlin:20230811T193000
DTEND;TZID=Europe/Berlin:20230811T193000
LOCATION:Ticketverkauf in der Stadthalle und im Web-Shop\,Stadthalle Ostero
 de am Harz
SUMMARY:Open Air 2023 - Schlagerparty
URL:https://osterode-stadthalle.de/index.php?option=com_jem&view=event&id=5
 46:open-air-2023-schlagerparty
END:VEVENT
END:VCALENDAR
