BEGIN:VCALENDAR
VERSION:2.0
PRODID:-//217.160.0.198//NONSGML kigkonsult.se iCalcreator 2.20//
CALSCALE:GREGORIAN
METHOD:PUBLISH
X-WR-TIMEZONE:Europe/Berlin
BEGIN:VEVENT
UID:event531@Stadthalle Osterode am Harz 
DTSTAMP:20260423T090205Z
CATEGORIES:Musik
DESCRIPTION:Der kleine Prinz\nKategorie: Musik\nICS-Link: https://osterode-
 stadthalle.de/index.php?option=com_jem&view=event&id=531:der-kleine-prinz
 \n
DTSTART;TZID=Europe/Berlin:20230211T180000
DTEND;TZID=Europe/Berlin:20230211T180000
LOCATION:Tickets erhältlich in der Stadthalle Osterode
SUMMARY:Der kleine Prinz
URL:https://osterode-stadthalle.de/index.php?option=com_jem&view=event&id=5
 31:der-kleine-prinz
END:VEVENT
END:VCALENDAR
