BEGIN:VCALENDAR
VERSION:2.0
PRODID:-//217.160.0.198//NONSGML kigkonsult.se iCalcreator 2.20//
CALSCALE:GREGORIAN
METHOD:PUBLISH
X-WR-TIMEZONE:Europe/Berlin
BEGIN:VEVENT
UID:event53@Stadthalle Osterode am Harz 
DTSTAMP:20260421T090817Z
CATEGORIES:Sonstiges
DESCRIPTION:Seniorenweihnachtsfeier\nKategorie: Sonstiges\nICS-Link: https:
 //osterode-stadthalle.de/index.php?option=com_jem&view=event&id=53:Seniore
 nweihnachtsfeier\n
DTSTART;TZID=Europe/Berlin:20141212T150000
DTEND;TZID=Europe/Berlin:20141212T170000
LOCATION:Eintritt frei!
SUMMARY:Seniorenweihnachtsfeier
URL:https://osterode-stadthalle.de/index.php?option=com_jem&view=event&id=5
 3:Seniorenweihnachtsfeier
END:VEVENT
END:VCALENDAR
