BEGIN:VCALENDAR
VERSION:2.0
PRODID:-//217.160.0.198//NONSGML kigkonsult.se iCalcreator 2.20//
CALSCALE:GREGORIAN
METHOD:PUBLISH
X-WR-TIMEZONE:Europe/Berlin
BEGIN:VEVENT
UID:event520@Stadthalle Osterode am Harz 
DTSTAMP:20260421T102849Z
CATEGORIES:Musik
DESCRIPTION: La Notte Italiana - Christian Meringolo\nKategorie: Musik\nICS
 -Link: https://osterode-stadthalle.de/index.php?option=com_jem&view=event&
 id=520:la-notte-italiana-christian-meringolo\n
DTSTART;TZID=Europe/Berlin:20220911T190000
DTEND;TZID=Europe/Berlin:20220911T190000
LOCATION:Veranstaltung wurde verschoben
SUMMARY: La Notte Italiana - Christian Meringolo
URL:https://osterode-stadthalle.de/index.php?option=com_jem&view=event&id=5
 20:la-notte-italiana-christian-meringolo
END:VEVENT
END:VCALENDAR
