BEGIN:VCALENDAR
VERSION:2.0
PRODID:-//217.160.0.198//NONSGML kigkonsult.se iCalcreator 2.20//
CALSCALE:GREGORIAN
METHOD:PUBLISH
X-WR-TIMEZONE:Europe/Berlin
BEGIN:VEVENT
UID:event519@Stadthalle Osterode am Harz 
DTSTAMP:20260421T121309Z
CATEGORIES:Musik
DESCRIPTION:Immer wieder Schlager - Stefan Mross & Anna-Carina Woitschack\n
 Kategorie: Musik\nICS-Link: https://osterode-stadthalle.de/index.php?optio
 n=com_jem&view=event&id=519:immer-wieder-schlager-stefan-mross-anna-carina
 -woitschack\n
DTSTART;TZID=Europe/Berlin:20230311T200000
DTEND;TZID=Europe/Berlin:20230311T200000
LOCATION:Veranstaltung wurde abgesagt!
SUMMARY:Immer wieder Schlager - Stefan Mross & Anna-Carina Woitschack
URL:https://osterode-stadthalle.de/index.php?option=com_jem&view=event&id=5
 19:immer-wieder-schlager-stefan-mross-anna-carina-woitschack
END:VEVENT
END:VCALENDAR
