BEGIN:VCALENDAR
VERSION:2.0
PRODID:-//217.160.0.198//NONSGML kigkonsult.se iCalcreator 2.20//
CALSCALE:GREGORIAN
METHOD:PUBLISH
X-WR-TIMEZONE:Europe/Berlin
BEGIN:VEVENT
UID:event504@Stadthalle Osterode am Harz 
DTSTAMP:20260421T103153Z
CATEGORIES:Musik
DESCRIPTION: Festival der Travestie in Osterode - Maria Crohn 'Die ultimati
 ve Weihnachtsshow'\nKategorie: Musik\nICS-Link: https://osterode-stadthall
 e.de/index.php?option=com_jem&view=event&id=504:festival-der-travestie-in-
 osterode-maria-crohn-die-die-ultimative-weihnachtsshow\n
DTSTART;TZID=Europe/Berlin:20231208T200000
DTEND;TZID=Europe/Berlin:20231208T200000
LOCATION:Ticketverkauf in der Stadthalle und im Web-Shop\,Stadthalle Ostero
 de am Harz
SUMMARY: Festival der Travestie in Osterode - Maria Crohn 'Die ultimative W
 eihnachtsshow'
URL:https://osterode-stadthalle.de/index.php?option=com_jem&view=event&id=5
 04:festival-der-travestie-in-osterode-maria-crohn-die-die-ultimative-weihn
 achtsshow
END:VEVENT
END:VCALENDAR
