BEGIN:VCALENDAR
VERSION:2.0
PRODID:-//217.160.0.198//NONSGML kigkonsult.se iCalcreator 2.20//
CALSCALE:GREGORIAN
METHOD:PUBLISH
X-WR-TIMEZONE:Europe/Berlin
BEGIN:VEVENT
UID:event492@Stadthalle Osterode am Harz 
DTSTAMP:20260423T090203Z
CATEGORIES:Comedy/Kabarett
DESCRIPTION: Bodo Bach - Das Guteste aus 20 Jahren\nKategorie: Comedy/Kabar
 ett\nICS-Link: https://osterode-stadthalle.de/index.php?option=com_jem&vie
 w=event&id=492:bodo-bach-das-guteste-aus-20-jahren\n
DTSTART;TZID=Europe/Berlin:20220910T193000
DTEND;TZID=Europe/Berlin:20220910T193000
LOCATION:Veranstaltung wurde abgesagt!
SUMMARY: Bodo Bach - Das Guteste aus 20 Jahren
URL:https://osterode-stadthalle.de/index.php?option=com_jem&view=event&id=4
 92:bodo-bach-das-guteste-aus-20-jahren
END:VEVENT
END:VCALENDAR
