BEGIN:VCALENDAR
VERSION:2.0
PRODID:-//217.160.0.198//NONSGML kigkonsult.se iCalcreator 2.20//
CALSCALE:GREGORIAN
METHOD:PUBLISH
X-WR-TIMEZONE:Europe/Berlin
BEGIN:VEVENT
UID:event485@Stadthalle Osterode am Harz 
DTSTAMP:20260423T110515Z
CATEGORIES:Musik
DESCRIPTION:Kim & Roy sagen Danke\nKategorie: Musik\nICS-Link: https://oste
 rode-stadthalle.de/index.php?option=com_jem&view=event&id=485:kim-roy-sage
 n-danke\n
DTSTART;TZID=Europe/Berlin:20230415T200000
DTEND;TZID=Europe/Berlin:20230415T200000
LOCATION:Ticketverkauf in der Stadthalle und im Web-Shop\,Stadthalle Ostero
 de am Harz
SUMMARY:Kim & Roy sagen Danke
URL:https://osterode-stadthalle.de/index.php?option=com_jem&view=event&id=4
 85:kim-roy-sagen-danke
END:VEVENT
END:VCALENDAR
