BEGIN:VCALENDAR
VERSION:2.0
PRODID:-//217.160.0.198//NONSGML kigkonsult.se iCalcreator 2.20//
CALSCALE:GREGORIAN
METHOD:PUBLISH
X-WR-TIMEZONE:Europe/Berlin
BEGIN:VEVENT
UID:event482@Stadthalle Osterode am Harz 
DTSTAMP:20260423T090406Z
CATEGORIES:Musik
DESCRIPTION:Das große Pfingstkonzert -Die Schlagerpiloten & Daniela Alfinit
 o\nKategorie: Musik\nICS-Link: https://osterode-stadthalle.de/index.php?op
 tion=com_jem&view=event&id=482:das-grosse-pfingstkonzert-die-schlagerpilot
 en-daniela-alfinito\n
DTSTART;TZID=Europe/Berlin:20220603T190000
DTEND;TZID=Europe/Berlin:20220603T190000
LOCATION:Veranstaltung wurde abgesagt!
SUMMARY:Das große Pfingstkonzert -Die Schlagerpiloten & Daniela Alfinito
URL:https://osterode-stadthalle.de/index.php?option=com_jem&view=event&id=4
 82:das-grosse-pfingstkonzert-die-schlagerpiloten-daniela-alfinito
END:VEVENT
END:VCALENDAR
