BEGIN:VCALENDAR
VERSION:2.0
PRODID:-//217.160.0.198//NONSGML kigkonsult.se iCalcreator 2.20//
CALSCALE:GREGORIAN
METHOD:PUBLISH
X-WR-TIMEZONE:Europe/Berlin
BEGIN:VEVENT
UID:event425@Stadthalle Osterode am Harz 
DTSTAMP:20260425T123103Z
CATEGORIES:Musik
DESCRIPTION:Musik zur Kaffeestunde\nKategorie: Musik\nICS-Link: https://ost
 erode-stadthalle.de/index.php?option=com_jem&view=event&id=425:musik-zur-k
 affeestunde\n
DTSTART;TZID=Europe/Berlin:20191208T153000
DTEND;TZID=Europe/Berlin:20191208T153000
LOCATION:Eintritt frei!
SUMMARY:Musik zur Kaffeestunde
URL:https://osterode-stadthalle.de/index.php?option=com_jem&view=event&id=4
 25:musik-zur-kaffeestunde
END:VEVENT
END:VCALENDAR
