BEGIN:VCALENDAR
VERSION:2.0
PRODID:-//217.160.0.198//NONSGML kigkonsult.se iCalcreator 2.20//
CALSCALE:GREGORIAN
METHOD:PUBLISH
X-WR-TIMEZONE:Europe/Berlin
BEGIN:VEVENT
UID:event412@Stadthalle Osterode am Harz 
DTSTAMP:20260425T130712Z
CATEGORIES:Tanz-Show
DESCRIPTION:Musical Tanzshow - Tanzstudio Kerstin Baufeldt\nKategorie: Tanz
 -Show\nICS-Link: https://osterode-stadthalle.de/index.php?option=com_jem&v
 iew=event&id=412:musical-tanzshow-tanzstudio-kerstin-baufeldt\n
DTSTART;TZID=Europe/Berlin:20200919T160000
DTEND;TZID=Europe/Berlin:20200919T160000
LOCATION:Veranstaltung wurde verschoben
SUMMARY:Musical Tanzshow - Tanzstudio Kerstin Baufeldt
URL:https://osterode-stadthalle.de/index.php?option=com_jem&view=event&id=4
 12:musical-tanzshow-tanzstudio-kerstin-baufeldt
END:VEVENT
END:VCALENDAR
