BEGIN:VCALENDAR
VERSION:2.0
PRODID:-//217.160.0.198//NONSGML kigkonsult.se iCalcreator 2.20//
CALSCALE:GREGORIAN
METHOD:PUBLISH
X-WR-TIMEZONE:Europe/Berlin
BEGIN:VEVENT
UID:event401@Stadthalle Osterode am Harz 
DTSTAMP:20260425T110313Z
CATEGORIES:Kinder
DESCRIPTION:Kunterbuntes Kinderfest\nKategorie: Kinder\nICS-Link: https://o
 sterode-stadthalle.de/index.php?option=com_jem&view=event&id=401:kunterbun
 tes-kinderfest\n
DTSTART;TZID=Europe/Berlin:20190921T150000
DTEND;TZID=Europe/Berlin:20190921T180000
LOCATION:Eintritt frei!
SUMMARY:Kunterbuntes Kinderfest
URL:https://osterode-stadthalle.de/index.php?option=com_jem&view=event&id=4
 01:kunterbuntes-kinderfest
END:VEVENT
END:VCALENDAR
