BEGIN:VCALENDAR
VERSION:2.0
PRODID:-//217.160.0.198//NONSGML kigkonsult.se iCalcreator 2.20//
CALSCALE:GREGORIAN
METHOD:PUBLISH
X-WR-TIMEZONE:Europe/Berlin
BEGIN:VEVENT
UID:event400@Stadthalle Osterode am Harz 
DTSTAMP:20260424T173309Z
CATEGORIES:Sonstiges
DESCRIPTION:Harzer Hexentrail 2019\nKategorie: Sonstiges\nICS-Link: https:/
 /osterode-stadthalle.de/index.php?option=com_jem&view=event&id=400:harzer-
 hexentrail-2019\n
DTSTART;VALUE=DATE:20190824
DTEND;VALUE=DATE:20190825
LOCATION:Eintritt frei!
SUMMARY:Harzer Hexentrail 2019
URL:https://osterode-stadthalle.de/index.php?option=com_jem&view=event&id=4
 00:harzer-hexentrail-2019
END:VEVENT
END:VCALENDAR
