BEGIN:VCALENDAR
VERSION:2.0
PRODID:-//217.160.0.198//NONSGML kigkonsult.se iCalcreator 2.20//
CALSCALE:GREGORIAN
METHOD:PUBLISH
X-WR-TIMEZONE:Europe/Berlin
BEGIN:VEVENT
UID:event398@Stadthalle Osterode am Harz 
DTSTAMP:20260425T123005Z
CATEGORIES:Lesung/Vortrag
DESCRIPTION:Vortrag Erdstrahlen/Wasseradern\, Elektrosmog...\nKategorie: Le
 sung/Vortrag\nICS-Link: https://osterode-stadthalle.de/index.php?option=co
 m_jem&view=event&id=398:vortrag-erdstrahlen-wasseradern-elektrosmog\n
DTSTART;TZID=Europe/Berlin:20190812T193000
DTEND;TZID=Europe/Berlin:20190812T193000
LOCATION:Eintritt frei!
SUMMARY:Vortrag Erdstrahlen/Wasseradern\, Elektrosmog...
URL:https://osterode-stadthalle.de/index.php?option=com_jem&view=event&id=3
 98:vortrag-erdstrahlen-wasseradern-elektrosmog
END:VEVENT
END:VCALENDAR
