BEGIN:VCALENDAR
VERSION:2.0
PRODID:-//217.160.0.198//NONSGML kigkonsult.se iCalcreator 2.20//
CALSCALE:GREGORIAN
METHOD:PUBLISH
X-WR-TIMEZONE:Europe/Berlin
BEGIN:VEVENT
UID:event377@Stadthalle Osterode am Harz 
DTSTAMP:20260425T122920Z
CATEGORIES:Sonstiges
DESCRIPTION:Kino unterm Sternenzelt - Open-Air-Kino\nKategorie: Sonstiges\n
 ICS-Link: https://osterode-stadthalle.de/index.php?option=com_jem&view=eve
 nt&id=377:kino-unterm-sternenzelt\n
DTSTART;VALUE=DATE:20190720
DTEND;VALUE=DATE:20190721
LOCATION:Eintritt frei!
SUMMARY:Kino unterm Sternenzelt - Open-Air-Kino
URL:https://osterode-stadthalle.de/index.php?option=com_jem&view=event&id=3
 77:kino-unterm-sternenzelt
END:VEVENT
END:VCALENDAR
