BEGIN:VCALENDAR
VERSION:2.0
PRODID:-//217.160.0.198//NONSGML kigkonsult.se iCalcreator 2.20//
CALSCALE:GREGORIAN
METHOD:PUBLISH
X-WR-TIMEZONE:Europe/Berlin
BEGIN:VEVENT
UID:event305@Stadthalle Osterode am Harz 
DTSTAMP:20260424T155807Z
CATEGORIES:Kinder
DESCRIPTION:Kunterbuntes Kinderfest\nKategorie: Kinder\nICS-Link: https://o
 sterode-stadthalle.de/index.php?option=com_jem&view=event&id=305:kinderfes
 t\n
DTSTART;TZID=Europe/Berlin:20180922T150000
DTEND;TZID=Europe/Berlin:20180922T180000
LOCATION:Eintritt frei!
SUMMARY:Kunterbuntes Kinderfest
URL:https://osterode-stadthalle.de/index.php?option=com_jem&view=event&id=3
 05:kinderfest
END:VEVENT
END:VCALENDAR
