BEGIN:VCALENDAR
VERSION:2.0
PRODID:-//217.160.0.198//NONSGML kigkonsult.se iCalcreator 2.20//
CALSCALE:GREGORIAN
METHOD:PUBLISH
X-WR-TIMEZONE:Europe/Berlin
BEGIN:VEVENT
UID:event302@Stadthalle Osterode am Harz 
DTSTAMP:20260425T124919Z
CATEGORIES:Musik
DESCRIPTION:Live Musik zur Kaffeestunde mit dem Duo Rita & Rich\nKategorie:
  Musik\nICS-Link: https://osterode-stadthalle.de/index.php?option=com_jem&
 view=event&id=302:live-musik-zur-kaffeestunde-mit-dem-duo-rita-rich\n
DTSTART;TZID=Europe/Berlin:20180819T153000
DTEND;TZID=Europe/Berlin:20180819T153000
LOCATION:Eintritt frei!
SUMMARY:Live Musik zur Kaffeestunde mit dem Duo Rita & Rich
URL:https://osterode-stadthalle.de/index.php?option=com_jem&view=event&id=3
 02:live-musik-zur-kaffeestunde-mit-dem-duo-rita-rich
END:VEVENT
END:VCALENDAR
