BEGIN:VCALENDAR
VERSION:2.0
PRODID:-//217.160.0.198//NONSGML kigkonsult.se iCalcreator 2.20//
CALSCALE:GREGORIAN
METHOD:PUBLISH
X-WR-TIMEZONE:Europe/Berlin
BEGIN:VEVENT
UID:event231@Stadthalle Osterode am Harz 
DTSTAMP:20260425T110240Z
CATEGORIES:Ausstellungen\, Messen und Märkte
DESCRIPTION:Hallentrödel\nKategorie: Ausstellungen\, Messen und Märkte\nICS
 -Link: https://osterode-stadthalle.de/index.php?option=com_jem&view=event&
 id=231:hallentroedel\n
DTSTART;TZID=Europe/Berlin:20171125T100000
DTEND;TZID=Europe/Berlin:20171125T160000
LOCATION:Eintritt frei!
SUMMARY:Hallentrödel
URL:https://osterode-stadthalle.de/index.php?option=com_jem&view=event&id=2
 31:hallentroedel
END:VEVENT
END:VCALENDAR
