BEGIN:VCALENDAR
VERSION:2.0
PRODID:-//217.160.0.198//NONSGML kigkonsult.se iCalcreator 2.20//
CALSCALE:GREGORIAN
METHOD:PUBLISH
X-WR-TIMEZONE:Europe/Berlin
BEGIN:VEVENT
UID:event226@Stadthalle Osterode am Harz 
DTSTAMP:20260425T110342Z
CATEGORIES:Sonstiges
DESCRIPTION:Luther Happening\nKategorie: Sonstiges\nICS-Link: https://oster
 ode-stadthalle.de/index.php?option=com_jem&view=event&id=226:luther-happen
 ing\n
DTSTART;TZID=Europe/Berlin:20170901T190000
DTEND;TZID=Europe/Berlin:20170901T190000
LOCATION:Eintritt frei!
SUMMARY:Luther Happening
URL:https://osterode-stadthalle.de/index.php?option=com_jem&view=event&id=2
 26:luther-happening
END:VEVENT
END:VCALENDAR
